BEGIN:VCALENDAR
VERSION:2.0
PRODID:-//Squarespace Inc/Squarespace 6//v6//EN
BEGIN:VEVENT
UID:5bd13d8971c10b27a6777b21@squarespace.com
DTSTAMP:20181025T205612Z
DTSTART:20181220T040000Z
DTEND:20181220T090000Z
SUMMARY:Pomegranate Kitchen Private class --watch this space for more info!
END:VEVENT
END:VCALENDAR
