BEGIN:VCALENDAR
VERSION:2.0
PRODID:-//Squarespace Inc/Squarespace 6//v6//EN
BEGIN:VEVENT
UID:59ab8c0e9f7456899e444b36@squarespace.com
DTSTAMP:20181025T030358Z
DTSTART:20180721T010000Z
DTEND:20180721T030000Z
SUMMARY:Private Children's Birthday Party Cooking Class with Wellington Foo
 dies Kids
END:VEVENT
END:VCALENDAR
