BEGIN:VCALENDAR
VERSION:2.0
PRODID:-//Squarespace Inc/Squarespace 6//v6//EN
BEGIN:VEVENT
UID:59ab8e39cd0f68fff5347551@squarespace.com
DTSTAMP:20170903T050830Z
DTSTART:20170930T220000Z
DTEND:20171001T000000Z
SUMMARY:Private Children's Birthday Party Cooking Class with Wellington Foo
 dies Kids
END:VEVENT
END:VCALENDAR
