BEGIN:VCALENDAR
VERSION:2.0
PRODID:-//Squarespace Inc/Squarespace 6//v6//EN
BEGIN:VEVENT
UID:597110208419c279b7f2c11d@squarespace.com
DTSTAMP:20170720T201900Z
DTSTART:20170914T230000Z
DTEND:20170915T010000Z
SUMMARY:Private Children's Birthday Party Cooking Class with Wellington Foo
 dies Kids
END:VEVENT
END:VCALENDAR
