BEGIN:VCALENDAR
VERSION:2.0
PRODID:-//Squarespace Inc/Squarespace 6//v6//EN
BEGIN:VEVENT
UID:570344c320c647bc9431e9c9@squarespace.com
DTSTAMP:20170720T201840Z
DTSTART:20170901T230000Z
DTEND:20170902T010000Z
SUMMARY:Private Children's Birthday Party Cooking Class with Wellington Foo
 dies Kids
END:VEVENT
END:VCALENDAR
