BEGIN:VCALENDAR
VERSION:2.0
PRODID:-//Squarespace Inc/Squarespace 6//v6//EN
BEGIN:VEVENT
UID:569304aadf40f361d6f98bd3@squarespace.com
DTSTAMP:20170213T204626Z
DTSTART:20170216T060000Z
DTEND:20170216T073000Z
SUMMARY:Knife Skills with Luke Crawford from Neo Cafe and Eatery - one plac
 e left!
END:VEVENT
END:VCALENDAR
