BEGIN:VCALENDAR
VERSION:2.0
PRODID:-//Squarespace Inc/Squarespace 6//v6//EN
BEGIN:VEVENT
UID:570340cc01dbae8fc9c640a5@squarespace.com
DTSTAMP:20160607T054300Z
DTSTART:20160624T000000Z
DTEND:20160624T030000Z
SUMMARY:Private Battle Kitchen corporate team building cook-off!
END:VEVENT
END:VCALENDAR
