BEGIN:VCALENDAR
VERSION:2.0
PRODID:-//Squarespace Inc/Squarespace 6//v6//EN
BEGIN:VEVENT
UID:575127c9b6aa60ab9dbf1cfa@squarespace.com
DTSTAMP:20160603T065858Z
DTSTART:20160623T070000Z
DTEND:20160623T083000Z
SUMMARY:Wellington Foodies - Knife Skills with Luke Crawford from Neo Cafe 
 and Eatery
END:VEVENT
END:VCALENDAR
