BEGIN:VCALENDAR
VERSION:2.0
PRODID:-//Squarespace Inc/Squarespace 6//v6//EN
BEGIN:VEVENT
UID:57a279a7b8a79b06bc62698e@squarespace.com
DTSTAMP:20160803T231812Z
DTSTART:20160902T230000Z
DTEND:20160903T030000Z
SUMMARY:Musica Linguae - Cooking in French - Language Immersion Cooking Cla
 ss
GEO:-41.325755;174.795595
LOCATION:Crave Cooking School\, 147 Onepu Road\, Wellington\, Wellington\, 
 6022\, New Zealand
END:VEVENT
END:VCALENDAR
