BEGIN:VCALENDAR
VERSION:2.0
PRODID:-//Squarespace Inc/Squarespace 6//v6//EN
BEGIN:VEVENT
UID:57bfd91e197aea28a6ba9b44@squarespace.com
DTSTAMP:20160928T205306Z
DTSTART:20161209T230000Z
DTEND:20161210T010000Z
SUMMARY:Hen Party - Private Cooking Class
END:VEVENT
END:VCALENDAR
