BEGIN:VCALENDAR
VERSION:2.0
PRODID:-//Squarespace Inc/Squarespace 6//v6//EN
BEGIN:VEVENT
UID:5bb425b724a6940b1fcb15e7@squarespace.com
DTSTAMP:20181003T021443Z
DTSTART:20181014T060000Z
DTEND:20181014T080000Z
SUMMARY:Private Battle Kitchen Birthday Party Cooking Class
GEO:-41.325755;174.795595
LOCATION:crave cooking school\, 147 Onepu Road\, Wellington\, Wellington\, 
 6022\, New Zealand
END:VEVENT
END:VCALENDAR
