BEGIN:VCALENDAR
VERSION:2.0
PRODID:-//Squarespace Inc/Squarespace 6//v6//EN
BEGIN:VEVENT
UID:5be4a6186d2a737458bb98a6@squarespace.com
DTSTAMP:20181108T211007Z
DTSTART:20181117T020000Z
DTEND:20181117T050000Z
SUMMARY:Private Battle Kitchen Cooking Class
GEO:-41.325755;174.795595
LOCATION:crave cooking school\, 147 Onepu Road\, Wellington\, Wellington\, 
 6022\, New Zealand
END:VEVENT
END:VCALENDAR
