BEGIN:VCALENDAR
VERSION:2.0
PRODID:-//Squarespace Inc/Squarespace 6//v6//EN
BEGIN:VEVENT
UID:5d8814f7531fa56f60e33002@squarespace.com
DTSTAMP:20190923T004400Z
DTSTART:20181212T043000Z
DTEND:20181212T073000Z
SUMMARY:Private Battle Kitchen Cooking Class
GEO:-41.325755;174.795595
LOCATION:crave cooking school\, 147 Onepu Road\, Wellington\, Wellington\, 
 6022\, New Zealand
END:VEVENT
END:VCALENDAR
