BEGIN:VCALENDAR
VERSION:2.0
PRODID:-//Squarespace Inc/Squarespace 6//v6//EN
BEGIN:VEVENT
UID:5bd64ad5f9619a35268e27be@squarespace.com
DTSTAMP:20181028T234904Z
DTSTART:20181205T043000Z
DTEND:20181205T073000Z
SUMMARY:Private Battle Kitchen Cooking Class
GEO:-41.325755;174.795595
LOCATION:crave cooking school\, 147 Onepu Road\, Wellington\, Wellington\, 
 6022\, New Zealand
END:VEVENT
END:VCALENDAR
