BEGIN:VCALENDAR
VERSION:2.0
PRODID:-//Squarespace Inc/Squarespace 6//v6//EN
BEGIN:VEVENT
UID:5b67c25b758d46d3428f5d44@squarespace.com
DTSTAMP:20180813T204017Z
DTSTART:20180921T010000Z
DTEND:20180921T040000Z
SUMMARY:Private Battle Kitchen Cooking Class
GEO:-41.325755;174.795595
LOCATION:crave cooking school\, 147 Onepu Road\, Wellington\, Wellington\, 
 6022\, New Zealand
END:VEVENT
END:VCALENDAR
