BEGIN:VCALENDAR
VERSION:2.0
PRODID:-//Squarespace Inc/Squarespace 6//v6//EN
BEGIN:VEVENT
UID:5add23fb8a922d433dfff768@squarespace.com
DTSTAMP:20180423T000848Z
DTSTART:20180508T060000Z
DTEND:20180508T080000Z
SUMMARY:Private Battle Kitchen Cooking Class
GEO:-41.325755;174.795595
LOCATION:crave cooking school\, 147 Onepu Road\, Wellington\, Wellington\, 
 6022\, New Zealand
END:VEVENT
END:VCALENDAR
