BEGIN:VCALENDAR
VERSION:2.0
PRODID:-//Squarespace Inc/Squarespace 6//v6//EN
BEGIN:VEVENT
UID:59961d3fbe6594c379f0c7f2@squarespace.com
DTSTAMP:20170817T224900Z
DTSTART:20171001T060000Z
DTEND:20171001T080000Z
SUMMARY:PrivateBattle Kitchen Cooking Class
GEO:-41.325755;174.795595
LOCATION:crave cooking school\, 147 Onepu Road\, Wellington\, Wellington\, 
 6022\, New Zealand
END:VEVENT
END:VCALENDAR
