BEGIN:VCALENDAR
VERSION:2.0
PRODID:-//Squarespace Inc/Squarespace 6//v6//EN
BEGIN:VEVENT
UID:57a263b2b8a79b06bc6177bd@squarespace.com
DTSTAMP:20170720T200541Z
DTSTART:20170902T040000Z
DTEND:20170902T070000Z
SUMMARY:PrivateBattle Kitchen Cooking Class
GEO:-41.325755;174.795595
LOCATION:crave cooking school\, 147 Onepu Road\, Wellington\, Wellington\, 
 6022\, New Zealand
END:VEVENT
END:VCALENDAR
