BEGIN:VCALENDAR
VERSION:2.0
PRODID:-//Squarespace Inc/Squarespace 6//v6//EN
BEGIN:VEVENT
UID:57bfdcd6be65945aea4a35cf@squarespace.com
DTSTAMP:20161208T063902Z
DTSTART:20170122T220000Z
DTEND:20170123T000000Z
SUMMARY:Wellington Foodies Kids - Chinese Dumpling Cooking Class - 8 - 10 y
 ears Old
END:VEVENT
END:VCALENDAR
