BEGIN:VCALENDAR
VERSION:2.0
PRODID:-//Squarespace Inc/Squarespace 6//v6//EN
BEGIN:VEVENT
UID:57bfdde02994ca9ae9eca1ba@squarespace.com
DTSTAMP:20160903T014303Z
DTSTART:20160903T230000Z
DTEND:20160904T010000Z
SUMMARY:Love Food Hate Waste - Pie with Amber Sturtz from Easy as Kai at $5 
 Cooking class! - One place left!
END:VEVENT
END:VCALENDAR
