BEGIN:VCALENDAR
VERSION:2.0
PRODID:-//Squarespace Inc/Squarespace 6//v6//EN
BEGIN:VEVENT
UID:58256d5cb3db2be01c6a9a69@squarespace.com
DTSTAMP:20161208T063923Z
DTSTART:20170124T220000Z
DTEND:20170125T000000Z
SUMMARY:Wellington Foodies Kids - tortellini pasta kids cooking class - 9 - 
 15 years Old
END:VEVENT
END:VCALENDAR
