BEGIN:VCALENDAR
VERSION:2.0
PRODID:-//Squarespace Inc/Squarespace 6//v6//EN
BEGIN:VEVENT
UID:5889af5f03596e8d03abb46e@squarespace.com
DTSTAMP:20180928T031954Z
DTSTART:20180301T060000Z
DTEND:20180301T073000Z
SUMMARY:Knife Skills with Luke Crawford from Neo 
END:VEVENT
END:VCALENDAR
