BEGIN:VCALENDAR
VERSION:2.0
PRODID:-//Squarespace Inc/Squarespace 6//v6//EN
BEGIN:VEVENT
UID:5bda1de72b6a285e2ac34312@squarespace.com
DTSTAMP:20190719T163658Z
DTSTART:20181213T053000Z
DTEND:20181213T073000Z
SUMMARY:Knife Skills with MacLean Fraser from Artisan--Back by popular dema
 nd!
END:VEVENT
END:VCALENDAR
