BEGIN:VCALENDAR
VERSION:2.0
PRODID:-//Squarespace Inc/Squarespace 6//v6//EN
BEGIN:VEVENT
UID:5bad9dda652deaabea9bee1e@squarespace.com
DTSTAMP:20181022T224857Z
DTSTART:20181128T053000Z
DTEND:20181128T073000Z
SUMMARY:Knife Skills with MacLean Fraser from Artisan--SOLD OUT!
END:VEVENT
END:VCALENDAR
