BEGIN:VCALENDAR
VERSION:2.0
PRODID:-//Squarespace Inc/Squarespace 6//v6//EN
BEGIN:VEVENT
UID:58ccb04fbe6594524c5e5136@squarespace.com
DTSTAMP:20170318T041026Z
DTSTART:20170623T230000Z
DTEND:20170624T010000Z
SUMMARY:Nicola Galloway - Home Grown Kitchen - Workshop 
END:VEVENT
END:VCALENDAR
