BEGIN:VCALENDAR
VERSION:2.0
PRODID:-//Squarespace Inc/Squarespace 6//v6//EN
BEGIN:VEVENT
UID:587c7f70f7e0ab6a7029dbab@squarespace.com
DTSTAMP:20170729T094543Z
DTSTART:20170805T223000Z
DTEND:20170806T020000Z
SUMMARY:SOURDOUGH\, JAM DOUGHNUTS\, AND BREAD ROLLS WITH CHEF MARIJA VIDOVI
 CH  - Sorry Sold Out!
END:VEVENT
END:VCALENDAR
