BEGIN:VCALENDAR
VERSION:2.0
PRODID:-//Squarespace Inc/Squarespace 6//v6//EN
BEGIN:VEVENT
UID:58a21e8746c3c4522f791f60@squarespace.com
DTSTAMP:20170322T070945Z
DTSTART:20170420T070000Z
DTEND:20170420T083000Z
SUMMARY:KNIFE SKILLS WITH LUKE CRAWFORD FROM NEO - Sorry Sold Out!
END:VEVENT
END:VCALENDAR
