BEGIN:VCALENDAR
VERSION:2.0
PRODID:-//Squarespace Inc/Squarespace 6//v6//EN
BEGIN:VEVENT
UID:58a783e96b8f5bc5080a5da9@squarespace.com
DTSTAMP:20170919T081902Z
DTSTART:20170920T070000Z
DTEND:20170920T090000Z
SUMMARY:Fish Filleting with Chef Luke Crawford from Neo - Only Two Places L
 eft!
END:VEVENT
END:VCALENDAR
