BEGIN:VCALENDAR
VERSION:2.0
PRODID:-//Squarespace Inc/Squarespace 6//v6//EN
BEGIN:VEVENT
UID:590670ad3a04117659d3e8a0@squarespace.com
DTSTAMP:20170430T231927Z
DTSTART:20170520T230000Z
DTEND:20170521T010000Z
SUMMARY:PRIVATE CHILDREN'S BIRTHDAY PARTY COOKING CLASS WITH WELLINGTON FOO
 DIES KIDS
END:VEVENT
END:VCALENDAR
