BEGIN:VCALENDAR
VERSION:2.0
PRODID:-//Squarespace Inc/Squarespace 6//v6//EN
BEGIN:VEVENT
UID:596475e1f5e231ddc0eb33cd@squarespace.com
DTSTAMP:20180913T024725Z
DTSTART:20170914T070000Z
DTEND:20170914T090000Z
SUMMARY:PASTA MASTERCLASS - RAVIOLI WITH CHEF LUKE CRAWFORD FROM NEO - Sorr
 y SOLD out!
END:VEVENT
END:VCALENDAR
