BEGIN:VCALENDAR
VERSION:2.0
PRODID:-//Squarespace Inc/Squarespace 6//v6//EN
BEGIN:VEVENT
UID:5b99cfbd2b6a288509f3dac0@squarespace.com
DTSTAMP:20181126T234039Z
DTSTART:20181107T053000Z
DTEND:20181107T073000Z
SUMMARY:PASTA MASTERCLASS -  FETTUCCINI &amp\; PAPPARDELLE with CHEF LUCA P
 ARIS--SOLD OUT! 
GEO:-41.325755;174.795595
LOCATION:Crave Cooking School\, 147 Onepu Road\, Wellington\, Wellington\, 
 6022\, New Zealand
END:VEVENT
END:VCALENDAR
