BEGIN:VCALENDAR
VERSION:2.0
PRODID:-//Squarespace Inc/Squarespace 6//v6//EN
BEGIN:VEVENT
UID:5c9974fbec212d9e9fbb4e91@squarespace.com
DTSTAMP:20200105T231550Z
DTSTART:20190706T040000Z
DTEND:20190706T070000Z
SUMMARY:PASTA MASTERCLASS -   TAGLIATELLE  &amp\; TIRAMISU CHEF NICLA GALLI
 ONE--SOLD OUT
GEO:-41.325755;174.795595
LOCATION:Crave Cooking School\, 147 Onepu Road\, Wellington\, Wellington\, 
 6022\, New Zealand
END:VEVENT
END:VCALENDAR
