BEGIN:VCALENDAR
VERSION:2.0
PRODID:-//Squarespace Inc/Squarespace 6//v6//EN
BEGIN:VEVENT
UID:5a263a0c71c10b1e7a338d51@squarespace.com
DTSTAMP:20180201T050152Z
DTSTART:20180223T213000Z
DTEND:20180224T010000Z
SUMMARY:SOURDOUGH\, JAM DOUGHNUTS\, AND BREAD ROLLS WITH Kearin Armstrong a
 nd Lucy Mutch - five places left!
END:VEVENT
END:VCALENDAR
