BEGIN:VCALENDAR
VERSION:2.0
PRODID:-//Squarespace Inc/Squarespace 6//v6//EN
BEGIN:VEVENT
UID:5a263a07652deaa8549d75e8@squarespace.com
DTSTAMP:20180325T023903Z
DTSTART:20180420T223000Z
DTEND:20180421T020000Z
SUMMARY:SOURDOUGH\, JAM DOUGHNUTS\, AND BREAD ROLLS WITH Kearin Armstrong a
 nd Lucy Mutch - Sorry Sold out!
END:VEVENT
END:VCALENDAR
