BEGIN:VCALENDAR
VERSION:2.0
PRODID:-//Squarespace Inc/Squarespace 6//v6//EN
BEGIN:VEVENT
UID:5b106beb758d468973cc7488@squarespace.com
DTSTAMP:20180601T074929Z
DTSTART:20180620T063000Z
DTEND:20180620T083000Z
SUMMARY:Ottolenghi - Vegetarian Cooking Class - with Wendy Nolan-Joyce - so
 rry sold out!
END:VEVENT
END:VCALENDAR
