BEGIN:VCALENDAR
VERSION:2.0
PRODID:-//Squarespace Inc/Squarespace 6//v6//EN
BEGIN:VEVENT
UID:5bd64a74104c7b918a4bc6d3@squarespace.com
DTSTAMP:20190719T163757Z
DTSTART:20181108T043000Z
DTEND:20181108T063000Z
SUMMARY:Ottolenghi - Private Vegetarian Cooking Class - to book your own cl
 ass\, contact bookings@cravecookingschool.co.nz
END:VEVENT
END:VCALENDAR
