BEGIN:VCALENDAR
VERSION:2.0
PRODID:-//Squarespace Inc/Squarespace 6//v6//EN
BEGIN:VEVENT
UID:5ba9c7f0a4222f04be1858b0@squarespace.com
DTSTAMP:20181112T010840Z
DTSTART:20181130T233000Z
DTEND:20181201T020000Z
SUMMARY:Ottolenghi Simple &amp\; Sweet - Middle Eastern Feast - new recipes 
 with Wendy Nolan Joyce--SOLD OUT
END:VEVENT
END:VCALENDAR
