BEGIN:VCALENDAR
VERSION:2.0
PRODID:-//Squarespace Inc/Squarespace 6//v6//EN
BEGIN:VEVENT
UID:5b541fb72b6a280bdeceea23@squarespace.com
DTSTAMP:20190719T163813Z
DTSTART:20180926T063000Z
DTEND:20180926T083000Z
SUMMARY:Ottolenghi - Vegetarian Cooking Class - with Wendy Nolan Joyce - SO
 RRY SOLD OUT!
END:VEVENT
END:VCALENDAR
