BEGIN:VCALENDAR
VERSION:2.0
PRODID:-//Squarespace Inc/Squarespace 6//v6//EN
BEGIN:VEVENT
UID:5b541f8988251b47550d0c46@squarespace.com
DTSTAMP:20180828T220331Z
DTSTART:20180912T063000Z
DTEND:20180912T083000Z
SUMMARY:Ottolenghi - Vegetarian Cooking Class - with Wendy Nolan Joyce - SO
 RRY SOLD OUT!
END:VEVENT
END:VCALENDAR
