BEGIN:VCALENDAR
VERSION:2.0
PRODID:-//Squarespace Inc/Squarespace 6//v6//EN
BEGIN:VEVENT
UID:5b2f33a42b6a28effeec2984@squarespace.com
DTSTAMP:20190719T163825Z
DTSTART:20180826T050000Z
DTEND:20180826T070000Z
SUMMARY:Ottolenghi - Vegetarian Cooking Class - with Wendy Nolan Joyce - So
 rry Sold out!
END:VEVENT
END:VCALENDAR
