BEGIN:VCALENDAR
VERSION:2.0
PRODID:-//Squarespace Inc/Squarespace 6//v6//EN
BEGIN:VEVENT
UID:5b2b12db562fa7f65d0e86c8@squarespace.com
DTSTAMP:20180621T232645Z
DTSTART:20180829T063000Z
DTEND:20180829T083000Z
SUMMARY:Ottolenghi - Vegetarian Cooking Class - with Wendy Nolan-Joyce - so
 rry sold out!
END:VEVENT
END:VCALENDAR
