BEGIN:VCALENDAR
VERSION:2.0
PRODID:-//Squarespace Inc/Squarespace 6//v6//EN
BEGIN:VEVENT
UID:5b2b0cd6352f53bf9a137568@squarespace.com
DTSTAMP:20190719T163831Z
DTSTART:20180808T063000Z
DTEND:20180808T083000Z
SUMMARY:Ottolenghi - Vegetarian Cooking Class - with Wendy Nolan Joyce - so
 rry sold out!
END:VEVENT
END:VCALENDAR
