BEGIN:VCALENDAR
VERSION:2.0
PRODID:-//Squarespace Inc/Squarespace 6//v6//EN
BEGIN:VEVENT
UID:5b0bacd588251baf56605dae@squarespace.com
DTSTAMP:20180531T214059Z
DTSTART:20180627T063000Z
DTEND:20180627T083000Z
SUMMARY:Ottolenghi - Vegetarian Cooking Class - with Wendy Nolan-Joyce - so
 rry sold out!
END:VEVENT
END:VCALENDAR
