BEGIN:VCALENDAR
VERSION:2.0
PRODID:-//Squarespace Inc/Squarespace 6//v6//EN
BEGIN:VEVENT
UID:5b95a1d06d2a7348d7813a3c@squarespace.com
DTSTAMP:20190612T022624Z
DTSTART:20181110T213000Z
DTEND:20181111T010000Z
SUMMARY:SOURDOUGH\, JAM DOUGHNUTS\, AND BREAD ROLLS WITH Kearin Armstrong--
 LAST CLASS of 2018. SOLD OUT!
END:VEVENT
END:VCALENDAR
