BEGIN:VCALENDAR
VERSION:2.0
PRODID:-//Squarespace Inc/Squarespace 6//v6//EN
BEGIN:VEVENT
UID:5bf0fbe3562fa782870c8212@squarespace.com
DTSTAMP:20190307T220639Z
DTSTART:20190308T213000Z
DTEND:20190309T010000Z
SUMMARY:SOURDOUGH\, JAM DOUGHNUTS\, AND BREAD ROLLS WITH Kearin Armstrong--
 CANCELLED DUE TO ILLNESS
END:VEVENT
END:VCALENDAR
