BEGIN:VCALENDAR
VERSION:2.0
PRODID:-//Squarespace Inc/Squarespace 6//v6//EN
BEGIN:VEVENT
UID:5c4fa1038985834ab026c113@squarespace.com
DTSTAMP:20190129T070828Z
DTSTART:20190426T223000Z
DTEND:20190427T020000Z
SUMMARY:SOURDOUGH\, JAM DOUGHNUTS\, AND BREAD ROLLS WITH Kearin Armstrong--
 SOLD OUT
END:VEVENT
END:VCALENDAR
