BEGIN:VCALENDAR
VERSION:2.0
PRODID:-//Squarespace Inc/Squarespace 6//v6//EN
BEGIN:VEVENT
UID:5bbed2ed53450aa94faec249@squarespace.com
DTSTAMP:20190129T004034Z
DTSTART:20190208T213000Z
DTEND:20190209T010000Z
SUMMARY:SOURDOUGH\, JAM DOUGHNUTS\, AND BREAD ROLLS WITH Kearin Armstrong--
 SOLD OUT
END:VEVENT
END:VCALENDAR
