BEGIN:VCALENDAR
VERSION:2.0
PRODID:-//Squarespace Inc/Squarespace 6//v6//EN
BEGIN:VEVENT
UID:5b71e875352f53499e90a2a6@squarespace.com
DTSTAMP:20181011T043453Z
DTSTART:20181012T213000Z
DTEND:20181013T010000Z
SUMMARY:SOURDOUGH\, JAM DOUGHNUTS\, AND BREAD ROLLS WITH Kearin Armstrong--
 Sorry SOLD OUT!
END:VEVENT
END:VCALENDAR
