BEGIN:VCALENDAR
VERSION:2.0
PRODID:-//Squarespace Inc/Squarespace 6//v6//EN
BEGIN:VEVENT
UID:5b2b18e9562fa7f65d0f58ec@squarespace.com
DTSTAMP:20180809T201203Z
DTSTART:20180921T223000Z
DTEND:20180922T020000Z
SUMMARY:SOURDOUGH\, JAM DOUGHNUTS\, AND BREAD ROLLS WITH Kearin Armstrong - 
 Sorry Sold out!
END:VEVENT
END:VCALENDAR
