BEGIN:VCALENDAR
VERSION:2.0
PRODID:-//Squarespace Inc/Squarespace 6//v6//EN
BEGIN:VEVENT
UID:5b2b18c5562fa7f65d0f543d@squarespace.com
DTSTAMP:20180814T072401Z
DTSTART:20180907T223000Z
DTEND:20180908T020000Z
SUMMARY:SOURDOUGH\, JAM DOUGHNUTS\, AND BREAD ROLLS WITH Kearin Armstrong - 
 SORRY SOLD OUT!
END:VEVENT
END:VCALENDAR
